BEGIN:VCALENDAR
VERSION:2.0
PRODID:spatie/icalendar-generator
DESCRIPTION:Events from Boston Ballet
X-WR-CALDESC:Events from Boston Ballet
REFRESH-INTERVAL;VALUE=DURATION:PT1440M
X-PUBLISHED-TTL:PT1440M
BEGIN:VTIMEZONE
TZID:Etc/GMT+0
BEGIN:STANDARD
DTSTART:20240120T000000Z
TZOFFSETFROM:+0000
TZOFFSETTO:+0000
END:STANDARD
END:VTIMEZONE
BEGIN:VTIMEZONE
TZID:UTC
BEGIN:STANDARD
DTSTART:20250726T103029Z
TZOFFSETFROM:+0000
TZOFFSETTO:+0000
END:STANDARD
END:VTIMEZONE
BEGIN:VEVENT
UID:38-30
DTSTAMP:20260422T103029Z
SUMMARY:Cocktails with Company Dancers
LOCATION:
ORGANIZER;CN=Maggie Williams:MAILTO:mwilliams@bostonballet.org
DTSTART;TZID=Etc/GMT+0:20241016T000000
DTEND;TZID=Etc/GMT+0:20241016T010000
X-ALT-DESC;FMTTYPE=TEXT/HTML:E. Virginia Williams Visionaries Circle member
 s are invited to have cocktails with the Company dancers.
CATEGORIES:E. Virginia Williams Visionaries Circle
URL;VALUE=URI:https://www.bostonballet.org/mc-events/cocktails-with-company
 -dancers/
METHOD:PUBLISH
END:VEVENT
END:VCALENDAR