BEGIN:VCALENDAR
VERSION:2.0
PRODID:spatie/icalendar-generator
DESCRIPTION:Events from Boston Ballet
X-WR-CALDESC:Events from Boston Ballet
REFRESH-INTERVAL;VALUE=DURATION:PT1440M
X-PUBLISHED-TTL:PT1440M
BEGIN:VTIMEZONE
TZID:Etc/GMT+0
BEGIN:STANDARD
DTSTART:20240124T000000Z
TZOFFSETFROM:+0000
TZOFFSETTO:+0000
END:STANDARD
END:VTIMEZONE
BEGIN:VTIMEZONE
TZID:UTC
BEGIN:STANDARD
DTSTART:20250729T102019Z
TZOFFSETFROM:+0000
TZOFFSETTO:+0000
END:STANDARD
END:VTIMEZONE
BEGIN:VEVENT
UID:40-32
DTSTAMP:20260425T102019Z
SUMMARY:Opening Night After Party - Fall Experience
LOCATION:
ORGANIZER;CN=Maggie Williams:MAILTO:mwilliams@bostonballet.org
DTSTART;TZID=Etc/GMT+0:20241020T000000
DTEND;TZID=Etc/GMT+0:20241020T010000
X-ALT-DESC;FMTTYPE=TEXT/HTML:Benefactors (5K+) and E. Virginia Williams Vis
 ionaries Circle members are invited to the opening night of Fall Experienc
 e after party.
CATEGORIES:Benefactors Circle,  E. Virginia Williams Visionaries Circle
URL;VALUE=URI:https://www.bostonballet.org/mc-events/opening-night-after-pa
 rty-fall-experience-2/
METHOD:PUBLISH
END:VEVENT
END:VCALENDAR