BEGIN:VCALENDAR
VERSION:2.0
PRODID:spatie/icalendar-generator
DESCRIPTION:Events from Boston Ballet
X-WR-CALDESC:Events from Boston Ballet
REFRESH-INTERVAL;VALUE=DURATION:PT1440M
X-PUBLISHED-TTL:PT1440M
BEGIN:VTIMEZONE
TZID:Etc/GMT+0
BEGIN:STANDARD
DTSTART:20250614T000000Z
TZOFFSETFROM:+0000
TZOFFSETTO:+0000
END:STANDARD
END:VTIMEZONE
BEGIN:VTIMEZONE
TZID:UTC
BEGIN:STANDARD
DTSTART:20250725T091934Z
TZOFFSETFROM:+0000
TZOFFSETTO:+0000
END:STANDARD
END:VTIMEZONE
BEGIN:VEVENT
UID:75-63
DTSTAMP:20260421T091934Z
SUMMARY:Studio Rehearsal Viewing | The Dream
LOCATION:
ORGANIZER;CN=Maggie Williams:MAILTO:mwilliams@bostonballet.org
DTSTART;TZID=Etc/GMT+0:20260311T000000
DTEND;TZID=Etc/GMT+0:20260312T000000
X-ALT-DESC;FMTTYPE=TEXT/HTML:Studio Rehearsal Viewing: The Dream
CATEGORIES:E. Virginia Williams Visionaries Circle
URL;VALUE=URI:https://www.bostonballet.org/mc-events/studio-rehearsal-viewi
 ng-the-dream/
METHOD:PUBLISH
END:VEVENT
END:VCALENDAR